BEGIN:VCALENDAR
VERSION:2.0
PRODID:-//Pasadena Trauma Therapy - ECPv6.15.20//NONSGML v1.0//EN
CALSCALE:GREGORIAN
METHOD:PUBLISH
X-ORIGINAL-URL:https://pasadenatraumatherapy.com
X-WR-CALDESC:Events for Pasadena Trauma Therapy
REFRESH-INTERVAL;VALUE=DURATION:PT1H
X-Robots-Tag:noindex
X-PUBLISHED-TTL:PT1H
BEGIN:VTIMEZONE
TZID:America/Los_Angeles
BEGIN:DAYLIGHT
TZOFFSETFROM:-0800
TZOFFSETTO:-0700
TZNAME:PDT
DTSTART:20220313T100000
END:DAYLIGHT
BEGIN:STANDARD
TZOFFSETFROM:-0700
TZOFFSETTO:-0800
TZNAME:PST
DTSTART:20221106T090000
END:STANDARD
BEGIN:DAYLIGHT
TZOFFSETFROM:-0800
TZOFFSETTO:-0700
TZNAME:PDT
DTSTART:20230312T100000
END:DAYLIGHT
BEGIN:STANDARD
TZOFFSETFROM:-0700
TZOFFSETTO:-0800
TZNAME:PST
DTSTART:20231105T090000
END:STANDARD
BEGIN:DAYLIGHT
TZOFFSETFROM:-0800
TZOFFSETTO:-0700
TZNAME:PDT
DTSTART:20240310T100000
END:DAYLIGHT
BEGIN:STANDARD
TZOFFSETFROM:-0700
TZOFFSETTO:-0800
TZNAME:PST
DTSTART:20241103T090000
END:STANDARD
END:VTIMEZONE
BEGIN:VEVENT
DTSTART;TZID=America/Los_Angeles:20230414T090000
DTEND;TZID=America/Los_Angeles:20230414T150000
DTSTAMP:20260420T100131
CREATED:20220909T181612Z
LAST-MODIFIED:20220909T231259Z
UID:2099-1681462800-1681484400@pasadenatraumatherapy.com
SUMMARY:Working With Adult Childhood Sexual Abuse Survivors A Structural Dissociation Perspective (“parts work”)
DESCRIPTION:Working With Adult Childhood Sexual Abuse Survivors:\n\n\nFrom A Structural Dissociation Perspective (“parts work”)\n\n\n \n\n\nFriday April 14\, 2023\n\n\n9am-3pm – CEU/Speaker Presentation\n\n\n*12-1pm Lunch (on your own)\n\n\n* = non CEU portion of course\n\n\nCourse meets the qualifications for 5 hours of continuing education credit for LMFTs\, LCSWs\, LPCCs\, and/or LEPs. CEU completion certificates will be awarded after participants complete the course evaluation after speaker presentation.\n\n\n \n\n\nLearning Objectives- participants will be able to:\n\n\n1.) Identify the 3 levels of dissociation\n\n\n2.) Identify at least 3 symptoms of sexual abuse survivors\n\n\n3.) Describe 3 ways in which “parts work” could be applied\n\n\n4.) Help clients process their traumas through “parts work”\n\n\n \n\n\nLocation: Online\n\n\nZoom details\, along with the course evaluation\, will be emailed to you after you have registered and paid for this workshop.\n\n\nOnce the workshop is over\, you will need to email the course evaluation in order to receive your CEUs.\n\n\n \n\n\nAdditional Information:\n\n\nAccommodations: Facilities and programs are accessible to persons with disabilities. If you have a special need and plan to attend the workshop\, please contact me at Cristina@PasadenaTraumaTherapy.com or (818)434-6051. Please allow as much advance notice as is possible to ensure I have ample opportunity to meet your needs. I will follow all applicable local\, state\, and federal standards\, including the Americans with Disabilities Act of 1990 (ADA)\, 42 U.S.C. §§ 12101-12213 (2008).\n\n\n \n\n\nRefund: Requests for refunds must be in writing and received before one week prior to the event. A $5 administrative fee will be deducted for cancellation of a paid event\, through the cancellation deadline. There will be no refunds on requests received after one week prior to the event. Please allow 3-5 days for your refund to be issued. I have discretion to issue refunds that do not comply with the policy.\n\n\n \n\n\nGrievances: if there are any questions or complaints (i.e. course content\, facilities\, certificates\, miscellaneous occurrences)\, but contact me directly. See contact information below.\n\n\n \n\n\nPasadena Trauma Therapy\, Inc. is approved by the California Association of Marriage and Family Therapists (CAMFT) to sponsor continuing education for MFTs\, LCSWs\, and LPCCs. Pasadena Trauma Therapy\, Inc. maintains responsibility for any program/course and its content. Provider Number 86858.\n\n\n \n\n\nFor any questions or concerns\, contact Cristina Mardirossian\, LMFT at (818) 434-6051 or email Cristina@PasadenaTraumaTherapy.com
URL:https://pasadenatraumatherapy.com/event/working-with-adult-childhood-sexual-abuse-survivors/
LOCATION:Zoom Webinar
END:VEVENT
END:VCALENDAR